BEGIN:VCALENDAR
VERSION:2.0
PRODID:icalendar-ruby
CALSCALE:GREGORIAN
BEGIN:VEVENT
DTSTAMP:20260423T135236Z
UID:fd3cede1-a3fd-4c15-90c4-1ca30b0888ee
DTSTART;VALUE=DATE:20260507
DESCRIPTION:Property ID# 606961\, Locatoin: Level 1\, 77 Thorndon Quay\, Th
 orndon\, Time: 2:00PM
SUMMARY:Auction for 2A Downing Street
END:VEVENT
END:VCALENDAR
