BEGIN:VCALENDAR
VERSION:2.0
PRODID:icalendar-ruby
CALSCALE:GREGORIAN
BEGIN:VEVENT
DTSTAMP:20260420T125431Z
UID:bf6408bf-af41-41ae-bc54-80b67fbb505c
DTSTART;VALUE=DATE:20260508
DESCRIPTION:Property ID# 606493\, Locatoin: 8 Kent Terrace\, Wellington\, T
 ime: 12:00PM
SUMMARY:Auction for 44 Rintoul Street
END:VEVENT
END:VCALENDAR
