BEGIN:VCALENDAR
VERSION:2.0
PRODID:icalendar-ruby
CALSCALE:GREGORIAN
BEGIN:VEVENT
DTSTAMP:20260420T125430Z
UID:2db756d7-db47-44a9-9eea-19c2b6ec45cd
DTSTART;VALUE=DATE:20260312
DESCRIPTION:Property ID# 604048\, Locatoin: Ray White Kilbirnie office 30 B
 ay Road Kilbirnie\, Time: 12:00PM
SUMMARY:Auction for 
END:VEVENT
END:VCALENDAR
