BEGIN:VCALENDAR
VERSION:2.0
PRODID:icalendar-ruby
CALSCALE:GREGORIAN
BEGIN:VEVENT
DTSTAMP:20260420T224253Z
UID:d482e45a-0db9-473e-bae3-e51c0dee2b5f
DTSTART;VALUE=DATE:20260220
DESCRIPTION:Property ID# 602510\, Locatoin: 8 Kent Terrace\, Wellington\, T
 ime: 12:00PM
SUMMARY:Auction for 
END:VEVENT
END:VCALENDAR
