BEGIN:VCALENDAR
VERSION:2.0
PRODID:icalendar-ruby
CALSCALE:GREGORIAN
BEGIN:VEVENT
DTSTAMP:20260419T144503Z
UID:f90e4308-8d90-4e8e-bac2-d735f5426d00
DTSTART;VALUE=DATE:20251008
DESCRIPTION:Property ID# 597156\, Locatoin: 136 Karori Road.\, Time: 12:00P
 M
SUMMARY:Auction for 
END:VEVENT
END:VCALENDAR
