BEGIN:VCALENDAR
VERSION:2.0
PRODID:icalendar-ruby
CALSCALE:GREGORIAN
BEGIN:VEVENT
DTSTAMP:20260420T223831Z
UID:09dfc39a-de3c-4948-b178-88392f65afb3
DTSTART;VALUE=DATE:20250612
DESCRIPTION:Property ID# 592802\, Locatoin: 8 Kent Terrace\, Wellington\, T
 ime: 12:00PM
SUMMARY:Auction for 
END:VEVENT
END:VCALENDAR
