BEGIN:VCALENDAR
VERSION:2.0
PRODID:icalendar-ruby
CALSCALE:GREGORIAN
BEGIN:VEVENT
DTSTAMP:20260422T103744Z
UID:3533612f-25e1-436a-99f1-0488fd9e0dc6
DTSTART;VALUE=DATE:20250409
DESCRIPTION:Property ID# 590187\, Locatoin: 8 Kent Terrace\, Wellington\, T
 ime: 4:00PM
SUMMARY:Auction for 
END:VEVENT
END:VCALENDAR
