BEGIN:VCALENDAR
VERSION:2.0
PRODID:icalendar-ruby
CALSCALE:GREGORIAN
BEGIN:VEVENT
DTSTAMP:20260420T160246Z
UID:d016a305-e4bf-4cec-b83c-319f80c0330b
DTSTART;VALUE=DATE:20250403
DESCRIPTION:Property ID# 589752\, Locatoin: 8 Kent Terrace\, Wellington\, T
 ime: 12:00PM
SUMMARY:Auction for 
END:VEVENT
END:VCALENDAR
