BEGIN:VCALENDAR
VERSION:2.0
PRODID:icalendar-ruby
CALSCALE:GREGORIAN
BEGIN:VEVENT
DTSTAMP:20260420T223157Z
UID:81eab93c-277c-4ca5-b746-85e18d612a69
DTSTART;VALUE=DATE:20250416
DESCRIPTION:Property ID# 589747\, Locatoin: 8 Kent Terrace\, Wellington\, T
 ime: 4:00PM
SUMMARY:Auction for 
END:VEVENT
END:VCALENDAR
