BEGIN:VCALENDAR
VERSION:2.0
PRODID:icalendar-ruby
CALSCALE:GREGORIAN
BEGIN:VEVENT
DTSTAMP:20260420T224520Z
UID:426c9c19-76e5-4a3a-a70b-2d9841fea8b6
DTSTART;VALUE=DATE:20250326
DESCRIPTION:Property ID# 589119\, Locatoin: 8 Kent Terrace\, Wellington\, T
 ime: 12:00PM
SUMMARY:Auction for 
END:VEVENT
END:VCALENDAR
