BEGIN:VCALENDAR
VERSION:2.0
PRODID:icalendar-ruby
CALSCALE:GREGORIAN
BEGIN:VEVENT
DTSTAMP:20260420T125620Z
UID:4a38b8eb-7e99-4d54-9cae-0fa44845249c
DTSTART;VALUE=DATE:20240314
DESCRIPTION:Property ID# 570393\, Locatoin: Raywhite office\, Bay Road\, Ki
 lbirnie\, Wellington\, Time: 12:00PM
SUMMARY:Auction for 
END:VEVENT
END:VCALENDAR
