BEGIN:VCALENDAR
VERSION:2.0
PRODID:icalendar-ruby
CALSCALE:GREGORIAN
BEGIN:VEVENT
DTSTAMP:20260421T085600Z
UID:09a3aca8-749b-445a-87a1-3a3ab18d0268
DTSTART;VALUE=DATE:20221110
DESCRIPTION:Property ID# 546392\, Locatoin: 21 Ganges Road\, Khandallah\, W
 ellington\, Time: 1:00PM
SUMMARY:Auction for 
END:VEVENT
END:VCALENDAR
