BEGIN:VCALENDAR
VERSION:2.0
PRODID:icalendar-ruby
CALSCALE:GREGORIAN
BEGIN:VEVENT
DTSTAMP:20260420T090100Z
UID:08d0c1bd-bf6b-43e9-9759-58133c9188f1
DTSTART;VALUE=DATE:20210413
DESCRIPTION:Property ID# 505812\, Locatoin: 30 Bay Road\, Kilbirnie\, Time:
  12:00PM
SUMMARY:Auction for 
END:VEVENT
END:VCALENDAR
