BEGIN:VCALENDAR
VERSION:2.0
PRODID:icalendar-ruby
CALSCALE:GREGORIAN
BEGIN:VEVENT
DTSTAMP:20260421T102401Z
UID:13da1d87-c690-4a16-8754-a1e76d2f76f3
DTSTART;VALUE=DATE:20210408
DESCRIPTION:Property ID# 505629\, Locatoin: 21 Ganges Road\, Khandallah\, T
 ime: 12:00PM
SUMMARY:Auction for 
END:VEVENT
END:VCALENDAR
