BEGIN:VCALENDAR
VERSION:2.0
PRODID:icalendar-ruby
CALSCALE:GREGORIAN
BEGIN:VEVENT
DTSTAMP:20260421T214909Z
UID:67f86efb-27ea-4cdf-938f-a1b3ab9fb5cf
DTSTART;VALUE=DATE:20201203
DESCRIPTION:Property ID# 495413\, Locatoin: Harcourts - Team Wellington Ltd
  - 1st Floor 54-56 Cambridge Terrace Te Aro Wellington\, Time: 12:00PM
SUMMARY:Auction for 
END:VEVENT
END:VCALENDAR
